BEGIN:VCALENDAR
VERSION:2.0
PRODID:-//Tukios.com/
BEGIN:VEVENT
UID:c13e4b8e-5de1-4704-88ce-5c1b218c9104@www.meridithfuneralhome.com
DTSTAMP:20260424T172437Z
DTSTART:20260427
SUMMARY:Interment
DESCRIPTION:
URL:https://www.meridithfuneralhome.com/obituaries/vera-henschen
LOCATION: Alhambra Rd  Alhambra IL 62001
GEO:38.8890182;-89.7496872
END:VEVENT
END:VCALENDAR