BEGIN:VCALENDAR
VERSION:2.0
PRODID:-//Tukios.com/
BEGIN:VEVENT
UID:83d0083c-2bdb-46fb-bead-09d388a05699@www.meridithfuneralhome.com
DTSTAMP:20260424T171957Z
DTSTART:20260427T170000Z
DTEND:20260427T180000Z
SUMMARY:Funeral Service
DESCRIPTION:
URL:https://www.meridithfuneralhome.com/obituaries/vera-henschen
LOCATION: 2520 Poplar St  Highland IL 62249
GEO:38.7270415;-89.6722124
END:VEVENT
END:VCALENDAR