BEGIN:VCALENDAR
VERSION:2.0
PRODID:-//Tukios.com/
BEGIN:VEVENT
UID:609b512b-6e67-408d-8366-73d67d12f979@www.meridithfuneralhome.com
DTSTAMP:20260424T172437Z
DTSTART:20260427T150000Z
DTEND:20260427T170000Z
SUMMARY:Visitation
DESCRIPTION:
URL:https://www.meridithfuneralhome.com/obituaries/vera-henschen
LOCATION:Evangelical United Church-Christ 2520 Poplar St  Highland IL 
	62249
GEO:38.7270415;-89.6722124
END:VEVENT
END:VCALENDAR