BEGIN:VCALENDAR
VERSION:2.0
PRODID:-//Tukios.com/
BEGIN:VEVENT
UID:109ef24e-dd5e-4d5b-9285-a48d254a1066@www.meridithfuneralhome.com
DTSTAMP:20260424T191909Z
DTSTART:20260429
SUMMARY:Interment
DESCRIPTION:
URL:https://www.meridithfuneralhome.com/obituaries/linda-simmons
LOCATION: 12301 Koepfli Ln  Highland IL 62249
GEO:38.7580128;-89.6927848
END:VEVENT
END:VCALENDAR