BEGIN:VCALENDAR
VERSION:2.0
PRODID:-//Tukios.com/
BEGIN:VEVENT
UID:f5a945ff-4ebf-41ac-87f8-88c10a46845f@www.meridithfuneralhome.com
DTSTAMP:20260424T191826Z
DTSTART:20260429T160000Z
DTEND:20260429T170000Z
SUMMARY:Funeral Service
DESCRIPTION:
URL:https://www.meridithfuneralhome.com/obituaries/linda-simmons
LOCATION: 102 Moreland St.  Pocahontas IL 62275
GEO:38.8279751;-89.5417703
END:VEVENT
END:VCALENDAR