BEGIN:VCALENDAR
VERSION:2.0
PRODID:-//Tukios.com/
BEGIN:VEVENT
UID:4981679d-f4a1-4f88-8f4b-fdffdc00b59f@www.meridithfuneralhome.com
DTSTAMP:20260424T191826Z
DTSTART:20260429T150000Z
DTEND:20260429T160000Z
SUMMARY:Visitation
DESCRIPTION:
URL:https://www.meridithfuneralhome.com/obituaries/linda-simmons
LOCATION: 102 Moreland St.  Pocahontas IL 62275
GEO:38.8279751;-89.5417703
END:VEVENT
END:VCALENDAR