BEGIN:VCALENDAR
VERSION:2.0
PRODID:-//Tukios.com/
BEGIN:VEVENT
UID:b761aebf-7ad8-43d3-8429-2f04fc2ce052@www.meridithfuneralhome.com
DTSTAMP:20260424T192058Z
DTSTART:20260428T210000Z
DTEND:20260429T000000Z
SUMMARY:Visitation
DESCRIPTION:
URL:https://www.meridithfuneralhome.com/obituaries/linda-simmons
LOCATION: 102 Moreland St.  Pocahontas IL 62275
GEO:38.8279751;-89.5417703
END:VEVENT
END:VCALENDAR