BEGIN:VCALENDAR
VERSION:2.0
PRODID:-//Tukios.com/
BEGIN:VEVENT
UID:a9e1cb22-44e1-4e95-bf05-c8c3f0f6570c@www.meridithfuneralhome.com
DTSTAMP:20260421T184633Z
DTSTART:20260424T153000Z
DTEND:20260424T163000Z
SUMMARY:Mass
DESCRIPTION:
URL:https://www.meridithfuneralhome.com/obituaries/arthur-warnecke
LOCATION: 1411 Main St  Highland IL 62249
GEO:38.7410694;-89.6736499
END:VEVENT
END:VCALENDAR