BEGIN:VCALENDAR
VERSION:2.0
PRODID:-//Tukios.com/
BEGIN:VEVENT
UID:dc472475-a2da-4bd4-badc-f7a305eeb7be@www.meridithfuneralhome.com
DTSTAMP:20260421T184716Z
DTSTART:20260423T210000Z
DTEND:20260424T010000Z
SUMMARY:Visitation
DESCRIPTION:
URL:https://www.meridithfuneralhome.com/obituaries/arthur-warnecke
LOCATION: 1223 Broadway Street  Highland IL 62249
GEO:38.7396964;-89.675553
END:VEVENT
END:VCALENDAR