BEGIN:VCALENDAR
VERSION:2.0
PRODID:-//Tukios.com/
BEGIN:VEVENT
UID:683ee9a4-8172-49d0-8fc9-0f3b8b7edc2a@www.meridithfuneralhome.com
DTSTAMP:20260421T184806Z
DTSTART:20260424T130000Z
DTEND:20260424T150000Z
SUMMARY:Visitation
DESCRIPTION:
URL:https://www.meridithfuneralhome.com/obituaries/arthur-warnecke
LOCATION: 1223 Broadway Street  Highland IL 62249
GEO:38.7396964;-89.675553
END:VEVENT
END:VCALENDAR